BEGIN:VCALENDAR
VERSION:2.0
PRODID:-//Glacial Lakes Area Development - ECPv6.15.20//NONSGML v1.0//EN
CALSCALE:GREGORIAN
METHOD:PUBLISH
X-WR-CALNAME:Glacial Lakes Area Development
X-ORIGINAL-URL:https://www.gladsd.com
X-WR-CALDESC:Events for Glacial Lakes Area Development
REFRESH-INTERVAL;VALUE=DURATION:PT1H
X-Robots-Tag:noindex
X-PUBLISHED-TTL:PT1H
BEGIN:VTIMEZONE
TZID:UTC
BEGIN:STANDARD
TZOFFSETFROM:+0000
TZOFFSETTO:+0000
TZNAME:UTC
DTSTART:20130101T000000
END:STANDARD
END:VTIMEZONE
BEGIN:VEVENT
DTSTART;VALUE=DATE:20160330
DTEND;VALUE=DATE:20160331
DTSTAMP:20260424T001857
CREATED:20141023T030017Z
LAST-MODIFIED:20141023T030017Z
UID:916-1459296000-1459382399@www.gladsd.com
SUMMARY:Electric Vehicle Conference
DESCRIPTION:Pharetra debitis minus potenti sollicitudin porro praesent reiciendis\, iusto hymenaeos quidem nobis\, ad habitant bibendum\, ratione nihil auctor\, velit\, occaecat reiciendis senectus\, maiores nemo\, hendrerit leo.
URL:https://www.gladsd.com/event/electric-vehicle-conference-2016-03-30/
LOCATION:All-0097
CATEGORIES:Conferences
ATTACH;FMTTYPE=image/jpeg:https://www.gladsd.com/wp-content/uploads/2014/02/events_006-copy.jpg
END:VEVENT
BEGIN:VEVENT
DTSTART;VALUE=DATE:20160310
DTEND;VALUE=DATE:20160313
DTSTAMP:20260424T001857
CREATED:20141023T030204Z
LAST-MODIFIED:20141023T030204Z
UID:831-1457568000-1457827199@www.gladsd.com
SUMMARY:Watch The Northern Lights
DESCRIPTION:Pharetra debitis minus potenti sollicitudin porro praesent reiciendis\, iusto hymenaeos quidem nobis\, ad habitant bibendum\, ratione nihil auctor\, velit\, occaecat reiciendis senectus\, maiores nemo\, hendrerit leo.
URL:https://www.gladsd.com/event/watch-the-northern-lights-2016-03-10/
CATEGORIES:Outings
ATTACH;FMTTYPE=image/jpeg:https://www.gladsd.com/wp-content/uploads/2014/02/events_Simone-Anne-0003.jpg
END:VEVENT
BEGIN:VEVENT
DTSTART;TZID=UTC:20160307T110000
DTEND;TZID=UTC:20160307T160000
DTSTAMP:20260424T001857
CREATED:20141023T030115Z
LAST-MODIFIED:20141023T030115Z
UID:823-1457348400-1457366400@www.gladsd.com
SUMMARY:Help Cafe Noir Fundraiser
DESCRIPTION:Pharetra debitis minus potenti sollicitudin porro praesent reiciendis\, iusto hymenaeos quidem nobis\, ad habitant bibendum\, ratione nihil auctor\, velit\, occaecat reiciendis senectus\, maiores nemo\, hendrerit leo.
URL:https://www.gladsd.com/event/help-cafe-noir-fundraiser-2016-03-07/
LOCATION:Donation History
CATEGORIES:Fundraiser
ATTACH;FMTTYPE=image/jpeg:https://www.gladsd.com/wp-content/uploads/2014/02/events_IMG_9857-1300x866.jpg
END:VEVENT
BEGIN:VEVENT
DTSTART;VALUE=DATE:20160130
DTEND;VALUE=DATE:20160131
DTSTAMP:20260424T001857
CREATED:20141023T030017Z
LAST-MODIFIED:20141023T030017Z
UID:791-1454112000-1454198399@www.gladsd.com
SUMMARY:Electric Vehicle Conference
DESCRIPTION:Pharetra debitis minus potenti sollicitudin porro praesent reiciendis\, iusto hymenaeos quidem nobis\, ad habitant bibendum\, ratione nihil auctor\, velit\, occaecat reiciendis senectus\, maiores nemo\, hendrerit leo.
URL:https://www.gladsd.com/event/electric-vehicle-conference-2016-01-30/
LOCATION:All-0097
CATEGORIES:Conferences
ATTACH;FMTTYPE=image/jpeg:https://www.gladsd.com/wp-content/uploads/2014/02/events_006-copy.jpg
END:VEVENT
BEGIN:VEVENT
DTSTART;VALUE=DATE:20151230
DTEND;VALUE=DATE:20151231
DTSTAMP:20260424T001857
CREATED:20141023T030017Z
LAST-MODIFIED:20141023T030017Z
UID:785-1451433600-1451519999@www.gladsd.com
SUMMARY:Electric Vehicle Conference
DESCRIPTION:Pharetra debitis minus potenti sollicitudin porro praesent reiciendis\, iusto hymenaeos quidem nobis\, ad habitant bibendum\, ratione nihil auctor\, velit\, occaecat reiciendis senectus\, maiores nemo\, hendrerit leo.
URL:https://www.gladsd.com/event/electric-vehicle-conference-2015-12-30/
LOCATION:All-0097
CATEGORIES:Conferences
ATTACH;FMTTYPE=image/jpeg:https://www.gladsd.com/wp-content/uploads/2014/02/events_006-copy.jpg
END:VEVENT
BEGIN:VEVENT
DTSTART;VALUE=DATE:20151130
DTEND;VALUE=DATE:20151201
DTSTAMP:20260424T001857
CREATED:20141023T030017Z
LAST-MODIFIED:20141023T030017Z
UID:779-1448841600-1448927999@www.gladsd.com
SUMMARY:Electric Vehicle Conference
DESCRIPTION:Pharetra debitis minus potenti sollicitudin porro praesent reiciendis\, iusto hymenaeos quidem nobis\, ad habitant bibendum\, ratione nihil auctor\, velit\, occaecat reiciendis senectus\, maiores nemo\, hendrerit leo.
URL:https://www.gladsd.com/event/electric-vehicle-conference-2015-11-30/
LOCATION:All-0097
CATEGORIES:Conferences
ATTACH;FMTTYPE=image/jpeg:https://www.gladsd.com/wp-content/uploads/2014/02/events_006-copy.jpg
END:VEVENT
BEGIN:VEVENT
DTSTART;VALUE=DATE:20151030
DTEND;VALUE=DATE:20151031
DTSTAMP:20260424T001857
CREATED:20141023T030017Z
LAST-MODIFIED:20141023T030017Z
UID:774-1446163200-1446249599@www.gladsd.com
SUMMARY:Electric Vehicle Conference
DESCRIPTION:Pharetra debitis minus potenti sollicitudin porro praesent reiciendis\, iusto hymenaeos quidem nobis\, ad habitant bibendum\, ratione nihil auctor\, velit\, occaecat reiciendis senectus\, maiores nemo\, hendrerit leo.
URL:https://www.gladsd.com/event/electric-vehicle-conference-2015-10-30/
LOCATION:All-0097
CATEGORIES:Conferences
ATTACH;FMTTYPE=image/jpeg:https://www.gladsd.com/wp-content/uploads/2014/02/events_006-copy.jpg
END:VEVENT
BEGIN:VEVENT
DTSTART;VALUE=DATE:20150930
DTEND;VALUE=DATE:20151001
DTSTAMP:20260424T001857
CREATED:20141023T030017Z
LAST-MODIFIED:20141023T030017Z
UID:767-1443571200-1443657599@www.gladsd.com
SUMMARY:Electric Vehicle Conference
DESCRIPTION:Pharetra debitis minus potenti sollicitudin porro praesent reiciendis\, iusto hymenaeos quidem nobis\, ad habitant bibendum\, ratione nihil auctor\, velit\, occaecat reiciendis senectus\, maiores nemo\, hendrerit leo.
URL:https://www.gladsd.com/event/electric-vehicle-conference-2015-09-30/
LOCATION:All-0097
CATEGORIES:Conferences
ATTACH;FMTTYPE=image/jpeg:https://www.gladsd.com/wp-content/uploads/2014/02/events_006-copy.jpg
END:VEVENT
BEGIN:VEVENT
DTSTART;VALUE=DATE:20150830
DTEND;VALUE=DATE:20150831
DTSTAMP:20260424T001857
CREATED:20141023T030017Z
LAST-MODIFIED:20141023T030017Z
UID:747-1440892800-1440979199@www.gladsd.com
SUMMARY:Electric Vehicle Conference
DESCRIPTION:Pharetra debitis minus potenti sollicitudin porro praesent reiciendis\, iusto hymenaeos quidem nobis\, ad habitant bibendum\, ratione nihil auctor\, velit\, occaecat reiciendis senectus\, maiores nemo\, hendrerit leo.
URL:https://www.gladsd.com/event/electric-vehicle-conference-2015-08-30/
LOCATION:All-0097
CATEGORIES:Conferences
ATTACH;FMTTYPE=image/jpeg:https://www.gladsd.com/wp-content/uploads/2014/02/events_006-copy.jpg
END:VEVENT
BEGIN:VEVENT
DTSTART;VALUE=DATE:20141030
DTEND;VALUE=DATE:20141031
DTSTAMP:20260424T001857
CREATED:20141023T030017Z
LAST-MODIFIED:20141023T030017Z
UID:673-1414627200-1414713599@www.gladsd.com
SUMMARY:Electric Vehicle Conference
DESCRIPTION:Pharetra debitis minus potenti sollicitudin porro praesent reiciendis\, iusto hymenaeos quidem nobis\, ad habitant bibendum\, ratione nihil auctor\, velit\, occaecat reiciendis senectus\, maiores nemo\, hendrerit leo.
URL:https://www.gladsd.com/event/electric-vehicle-conference/
LOCATION:All-0097
CATEGORIES:Conferences
ATTACH;FMTTYPE=image/jpeg:https://www.gladsd.com/wp-content/uploads/2014/02/events_006-copy.jpg
END:VEVENT
END:VCALENDAR