BEGIN:VCALENDAR
VERSION:2.0
PRODID:-//Glacial Lakes Area Development - ECPv6.15.20//NONSGML v1.0//EN
CALSCALE:GREGORIAN
METHOD:PUBLISH
X-WR-CALNAME:Glacial Lakes Area Development
X-ORIGINAL-URL:https://www.gladsd.com
X-WR-CALDESC:Events for Glacial Lakes Area Development
REFRESH-INTERVAL;VALUE=DURATION:PT1H
X-Robots-Tag:noindex
X-PUBLISHED-TTL:PT1H
BEGIN:VTIMEZONE
TZID:UTC
BEGIN:STANDARD
TZOFFSETFROM:+0000
TZOFFSETTO:+0000
TZNAME:UTC
DTSTART:20180101T000000
END:STANDARD
END:VTIMEZONE
BEGIN:VEVENT
DTSTART;TZID=UTC:20200815T130000
DTEND;TZID=UTC:20200815T160000
DTSTAMP:20260423T171519
CREATED:20200204T172218Z
LAST-MODIFIED:20200204T172218Z
UID:1806-1597496400-1597507200@www.gladsd.com
SUMMARY:Family Fun Day
DESCRIPTION:Grab your family and join us for some summer fun every third Saturday of the month starting in June! Gather your team for games\, relays and other outdoor fun. Each month there will be a new theme for Family Fun Day\, so stay tune for more information. \nDates: June 20\, July 18\, and August 15 2020\nTime: 1pm-4pm\nCost: a State Park Entrance License is required on the vehicle \nQuestions please contact Roy Lake State Park at 605.448.5701
URL:https://www.gladsd.com/event/family-fun-day-3/
LOCATION:Roy Lake State Park\, 11545 Northside Drive\, Lake City\, SD\, 57247
END:VEVENT
BEGIN:VEVENT
DTSTART;TZID=UTC:20200718T130000
DTEND;TZID=UTC:20200718T160000
DTSTAMP:20260423T171519
CREATED:20200204T172117Z
LAST-MODIFIED:20200204T172117Z
UID:1804-1595077200-1595088000@www.gladsd.com
SUMMARY:Family Fun Day
DESCRIPTION:Grab your family and join us for some summer fun every third Saturday of the month starting in June! Gather your team for games\, relays and other outdoor fun. Each month there will be a new theme for Family Fun Day\, so stay tune for more information. \nDates: June 20\, July 18\, and August 15 2020\nTime: 1pm-4pm\nCost: a State Park Entrance License is required on the vehicle \nQuestions please contact Roy Lake State Park at 605.448.5701
URL:https://www.gladsd.com/event/family-fun-day-2/
LOCATION:Roy Lake State Park\, 11545 Northside Drive\, Lake City\, SD\, 57247
END:VEVENT
BEGIN:VEVENT
DTSTART;TZID=UTC:20200627T190000
DTEND;TZID=UTC:20200627T220000
DTSTAMP:20260423T171519
CREATED:20200204T172653Z
LAST-MODIFIED:20200204T172653Z
UID:1811-1593284400-1593295200@www.gladsd.com
SUMMARY:Buckhorn Rodeo
DESCRIPTION:7:00 Pm \nBuckhorn Rodeo Grounds
URL:https://www.gladsd.com/event/buckhorn-rodeo-2/
LOCATION:Buckhorn Rodeo\, Hwy 10\, Britton\, SD\, 57430
END:VEVENT
BEGIN:VEVENT
DTSTART;TZID=UTC:20200626T190000
DTEND;TZID=UTC:20200626T220000
DTSTAMP:20260423T171519
CREATED:20200204T172547Z
LAST-MODIFIED:20200204T172547Z
UID:1808-1593198000-1593208800@www.gladsd.com
SUMMARY:Buckhorn Rodeo
DESCRIPTION:7:00 PM \n 
URL:https://www.gladsd.com/event/buckhorn-rodeo/
LOCATION:Buckhorn Rodeo\, Hwy 10\, Britton\, SD\, 57430
END:VEVENT
BEGIN:VEVENT
DTSTART;TZID=UTC:20200620T130000
DTEND;TZID=UTC:20200620T160000
DTSTAMP:20260423T171519
CREATED:20200204T171940Z
LAST-MODIFIED:20200204T171940Z
UID:1801-1592658000-1592668800@www.gladsd.com
SUMMARY:Family Fun Day!
DESCRIPTION:Grab your family and join us for some summer fun every third Saturday of the month starting in June! Gather your team for games\, relays and other outdoor fun. Each month there will be a new theme for Family Fun Day\, so stay tune for more information. \nDates: June 20\, July 18\, and August 15 2020\nTime: 1pm-4pm\nCost: a State Park Entrance License is required on the vehicle \nQuestions please contact Roy Lake State Park at 605.448.5701
URL:https://www.gladsd.com/event/family-fun-day/
LOCATION:Roy Lake State Park\, 11545 Northside Drive\, Lake City\, SD\, 57247
END:VEVENT
BEGIN:VEVENT
DTSTART;TZID=UTC:20200403T180000
DTEND;TZID=UTC:20200403T200000
DTSTAMP:20260423T171519
CREATED:20200311T141515Z
LAST-MODIFIED:20200311T141515Z
UID:1894-1585936800-1585944000@www.gladsd.com
SUMMARY:Langford Area Community Gathering
DESCRIPTION:Langford Area Community Gathering Poster
URL:https://www.gladsd.com/event/langford-area-community-gathering/
END:VEVENT
BEGIN:VEVENT
DTSTART;TZID=UTC:20200328T130000
DTEND;TZID=UTC:20200328T170000
DTSTAMP:20260423T171519
CREATED:20200131T210604Z
LAST-MODIFIED:20200131T210604Z
UID:1765-1585400400-1585414800@www.gladsd.com
SUMMARY:Easter Escape Room
DESCRIPTION:Hippity Hop\, can you beat the clock? The evil Easter Grinch has struck again! Can you and your team crack the codes to save Easter? \nThis event is great for all ages. So get your team of two or more together and help save Easter! Please call to reserve your spot today! \nDate: March 28\, 2020\nTime: 1pm-5pm (Teams will be let in every 15 minutes. Last group will be allowed in at 4:45pm) \nNo admission charge\, but a Park Entrance License (PEL) is required on the vehicle. PEL will be available for purchase day of event.
URL:https://www.gladsd.com/event/easter-escape-room/
LOCATION:Fort Sisseton State Park\, Lake City\, SD\, United States
END:VEVENT
BEGIN:VEVENT
DTSTART;TZID=UTC:20200328T100000
DTEND;TZID=UTC:20200328T160000
DTSTAMP:20260423T171519
CREATED:20200131T210120Z
LAST-MODIFIED:20200131T210120Z
UID:1759-1585389600-1585411200@www.gladsd.com
SUMMARY:37th Britton Expo and Health Fair
DESCRIPTION:A fun day of shopping\, connecting with businesses and good food. \nLocated at the Britton-Hecla gym on Main street.
URL:https://www.gladsd.com/event/37th-britton-expo-and-health-fair/
LOCATION:Britton-Hecla School Gymnasium\, 759 5th Street\, Britton\, SD\, 57430
END:VEVENT
BEGIN:VEVENT
DTSTART;TZID=UTC:20200311T140000
DTEND;TZID=UTC:20200311T153000
DTSTAMP:20260423T171519
CREATED:20200204T154947Z
LAST-MODIFIED:20200204T154947Z
UID:1785-1583935200-1583940600@www.gladsd.com
SUMMARY:Grain Marketing Meeting
DESCRIPTION:Grain Marketing information meeting.\nCookies and coffee to be served at the meeting.
URL:https://www.gladsd.com/event/grain-marketing-meeting/
LOCATION:Britton Grain Terminal\, 11081 SD Hwy 27\, Britton\, SD\, 57430
END:VEVENT
BEGIN:VEVENT
DTSTART;TZID=UTC:20200309T183000
DTEND;TZID=UTC:20200309T200000
DTSTAMP:20260423T171519
CREATED:20200213T225256Z
LAST-MODIFIED:20200213T225256Z
UID:1874-1583778600-1583784000@www.gladsd.com
SUMMARY:City Council Meeting
DESCRIPTION:
URL:https://www.gladsd.com/event/city-council-meeting/
LOCATION:Britton Area Event Center\, Britton\, SD\, 57430\, United States
END:VEVENT
BEGIN:VEVENT
DTSTART;TZID=UTC:20200305T174500
DTEND;TZID=UTC:20200305T200000
DTSTAMP:20260423T171519
CREATED:20200204T172932Z
LAST-MODIFIED:20200204T172932Z
UID:1814-1583430300-1583438400@www.gladsd.com
SUMMARY:Britton Lions Club Meeting
DESCRIPTION:5:45 at the Fun after 50 Club \nAll are welcome.
URL:https://www.gladsd.com/event/britton-lions-club-meeting-2/
LOCATION:Fun after 50 Club\, 615 Main Street\, Britton\, SD\, 57430
END:VEVENT
BEGIN:VEVENT
DTSTART;TZID=UTC:20200304T090000
DTEND;TZID=UTC:20200304T150000
DTSTAMP:20260423T171519
CREATED:20200131T192523Z
LAST-MODIFIED:20200131T192808Z
UID:1749-1583312400-1583334000@www.gladsd.com
SUMMARY:Ag Tech Integration Summit
DESCRIPTION:Learn how to tie it all together at Full Circle Ag’s Ag Tech Summit on March 4\, 2020 from 9:00 am to 3:00 pm at the Britton Area Event Center. \nThere will be multiple vendors as well as guest speakers\, including Joel Wipperfurth from WinField United. Check out the event Facebook page for updated vendor and speaker information. Link to the event page is listed below. \nLunch will be provided. \n\nEvent Schedule\n\n\n\n\n\n\n9:00 AM – 9:25 AM\n\nRegistration & Networking\n\n\n\n\n\n\n\n9:25 AM – 9:30 AM\n\n\nWelcome – Jeff Thaler\, CEO\, Full Circle Ag\n\n\n\n\n\n\n\n9:30 AM – 10:15 AM\n\n\nSetting the Stage: A look at ag tech\, the past and future – Charlie Schoenfelder\, Raven Applied Technology\n\n\n\n\n\n\n\n10:15 AM – 10:30 AM\n\n\nExhibits and Networking\n\n\n\n\n\n\n\n10:30 AM – 11:15 AM\n\n\nDoes Smart Agriculture Work? – Kevin Poppel\, Poppel Family Farms\, LLC\n\n\n\n\n\n\n\n\n\n11:15 AM – 11:30 AM\n\nExhibits and Networking\n\n\n\n\n\n\n\n11:15 AM – 1:15 PM\n\n\nLunch\n\n\n\n\n\n\n\n11:30 AM – 12:15 PM\n\n\nCurrent and Future Integrations in Ag Technology – Joel Wipperfurth\, WinField United\n\n\n\n\n\n\n\n12:15 PM – 12:30 PM\n\n\nExhibits and Networking\n\n\n\n\n\n\n\n12:30 PM – 1:15 PM\n\n\nLocal Grower Perspective Panel – Surrounding Area Growers\n\n\n\n\n\n\n\n1:15 PM – 1:25 PM\n\n\nClosing Remarks\n\n\n\n\n\n\n\n1:25 PM – 3:00 PM\n\n\nExhibits and Networking
URL:https://www.gladsd.com/event/ag-tech-integration-summit/
LOCATION:Britton Area Event Center\, Britton\, SD\, 57430\, United States
END:VEVENT
BEGIN:VEVENT
DTSTART;TZID=UTC:20200221T180000
DTEND;TZID=UTC:20200221T230000
DTSTAMP:20260423T171519
CREATED:20200131T205809Z
LAST-MODIFIED:20200131T205809Z
UID:1757-1582308000-1582326000@www.gladsd.com
SUMMARY:Annual Chamber Banquet with Dueling Duo
DESCRIPTION:Everyone is invited to join us for a fun evening!!  Email britttonchamber@venturecomm.net to reserve a spot. \nCost to attend banquet (meal included provided by the Britton Country Club) \nTables for eight -$200\, \ntable for 4 -$100\, \nindividual $30. \nIf you come for entertainment only $15. \nHope you can join us!
URL:https://www.gladsd.com/event/annual-chamber-banquet-with-dueling-duo/
LOCATION:Britton Area Event Center\, Britton\, SD\, 57430\, United States
END:VEVENT
BEGIN:VEVENT
DTSTART;TZID=UTC:20200221T180000
DTEND;TZID=UTC:20200221T220000
DTSTAMP:20260423T171519
CREATED:20200128T144811Z
LAST-MODIFIED:20200128T144811Z
UID:1617-1582308000-1582322400@www.gladsd.com
SUMMARY:Tour of Asia
DESCRIPTION:Britton Country Club \nTour Asia on Feb 21st\nAt Britton Country Club\nWith Homemade Dishes\nStarting at 6pm
URL:https://www.gladsd.com/event/tour-of-asia/
LOCATION:Britton Country Club
END:VEVENT
BEGIN:VEVENT
DTSTART;TZID=UTC:20200216T170000
DTEND;TZID=UTC:20200216T200000
DTSTAMP:20260423T171519
CREATED:20200131T205541Z
LAST-MODIFIED:20200131T205541Z
UID:1754-1581872400-1581883200@www.gladsd.com
SUMMARY:Valentine's Dance
DESCRIPTION:
URL:https://www.gladsd.com/event/valentines-dance/
LOCATION:Britton Area Event Center\, Britton\, SD\, 57430\, United States
END:VEVENT
BEGIN:VEVENT
DTSTART;TZID=UTC:20200216T093000
DTEND;TZID=UTC:20200216T130000
DTSTAMP:20260423T171519
CREATED:20200131T154815Z
LAST-MODIFIED:20200131T154815Z
UID:1743-1581845400-1581858000@www.gladsd.com
SUMMARY:Eden Lions Club Pancake Breakfast
DESCRIPTION:Serving from 9:30 to 1:00 \nAdults $6.00\, 5-12 $3.00\, Under 5  FREE \nSacred Heart Parish Hall in Eden
URL:https://www.gladsd.com/event/eden-lions-club-pancake-breakfast/
LOCATION:Sacred Heart Parish Hall\, 114 S 2nd St\, Eden\, SD\, 57232
END:VEVENT
BEGIN:VEVENT
DTSTART;TZID=UTC:20200215T210000
DTEND;TZID=UTC:20200215T210000
DTSTAMP:20260423T171519
CREATED:20200204T174035Z
LAST-MODIFIED:20200204T174035Z
UID:1816-1581800400-1581800400@www.gladsd.com
SUMMARY:Valentine's with Curt and Peggy
DESCRIPTION:A day late\, but never a dollar short with these two!  Serenade your #1 with your favorite love songs all night\, hope to see you here!
URL:https://www.gladsd.com/event/valentines-with-curt-and-peggy/
LOCATION:VFW\, 718 Main Street\, Britton\, SD\, 57430
END:VEVENT
BEGIN:VEVENT
DTSTART;TZID=UTC:20200215T100000
DTEND;TZID=UTC:20200215T120000
DTSTAMP:20260423T171519
CREATED:20200213T225124Z
LAST-MODIFIED:20200213T225217Z
UID:1871-1581760800-1581768000@www.gladsd.com
SUMMARY:Legislative Cracker Barrel
DESCRIPTION:10am\, Saturday\, February 15th at The Fun after 50 Club
URL:https://www.gladsd.com/event/legislative-cracker-barrel/
LOCATION:Fun after 50 Club\, 615 Main Street\, Britton\, SD\, 57430
END:VEVENT
BEGIN:VEVENT
DTSTART;TZID=UTC:20200212T110000
DTEND;TZID=UTC:20200212T140000
DTSTAMP:20260423T171519
CREATED:20200205T155258Z
LAST-MODIFIED:20200205T155258Z
UID:1843-1581505200-1581516000@www.gladsd.com
SUMMARY:Kumla Lunch Special
DESCRIPTION:11am-2pm or until gone
URL:https://www.gladsd.com/event/kumla-lunch-special/
LOCATION:Britton Country Club
END:VEVENT
BEGIN:VEVENT
DTSTART;TZID=UTC:20200208T140000
DTEND;TZID=UTC:20200208T160000
DTSTAMP:20260423T171519
CREATED:20200131T210445Z
LAST-MODIFIED:20200131T210445Z
UID:1763-1581170400-1581177600@www.gladsd.com
SUMMARY:Valentine Tea and Traditions
DESCRIPTION:Join us for some Valentine treats and warm tea as we learn about Valentine’s Day and how it became the holiday it is today. \nDate: February 8\, 2020\nTime: 2pm in the Library/Schoolhouse\nNo admission charge\, but a Park Entrance License (PEL) is required on the vehicle. PEL will be available for purchase day of event.
URL:https://www.gladsd.com/event/valentine-tea-and-traditions/
LOCATION:Fort Sisseton State Park\, Lake City\, SD\, United States
ORGANIZER;CN="Ali Jo Tonsfelt":MAILTO:fortsisseton@state.sd.us
END:VEVENT
BEGIN:VEVENT
DTSTART;TZID=UTC:20200207T190000
DTEND;TZID=UTC:20200207T230000
DTSTAMP:20260423T171519
CREATED:20200131T210958Z
LAST-MODIFIED:20200131T210958Z
UID:1767-1581102000-1581116400@www.gladsd.com
SUMMARY:VFW Annual BINGO Fundraiser
DESCRIPTION:For VFW Teeners Baseball & Marshall County Youth Baseball and Softball. \nPrizes include; turkeys\, bacon\, hams\, sausage\, cash\, gift certificates and merchandise from local businesses.
URL:https://www.gladsd.com/event/vfw-annual-bingo-fundraiser/
LOCATION:VFW\, 718 Main Street\, Britton\, SD\, 57430
END:VEVENT
BEGIN:VEVENT
DTSTART;TZID=UTC:20200206T174500
DTEND;TZID=UTC:20200206T200000
DTSTAMP:20260423T171519
CREATED:20200131T211437Z
LAST-MODIFIED:20200131T211437Z
UID:1770-1581011100-1581019200@www.gladsd.com
SUMMARY:Britton Lions Club Meeting
DESCRIPTION:Monthly Lions Meeting beginning at 5:45 at the Fun after 50 Club. All are welcome to attend.
URL:https://www.gladsd.com/event/britton-lions-club-meeting/
LOCATION:Fun after 50 Club\, 615 Main Street\, Britton\, SD\, 57430
END:VEVENT
BEGIN:VEVENT
DTSTART;TZID=UTC:20200202T150000
DTEND;TZID=UTC:20200202T233000
DTSTAMP:20260423T171519
CREATED:20200128T145710Z
LAST-MODIFIED:20200128T145710Z
UID:1629-1580655600-1580686200@www.gladsd.com
SUMMARY:Pub 605 Super Bowl Party
DESCRIPTION:Pub 605 \nAre you in it for the football or the commercials? Join us at PUB 605 for some football\, games\, snacks\, and fun. If you have a favorite appetizer or snack you’d like to bring\, please do! In celebration of our 500th like on Facebook\, we’ll draw for a $50 PUB 605 gift certificate at half time. (Must be present to win)
URL:https://www.gladsd.com/event/pub-605-super-bowl-party/
LOCATION:Pub 605\, 202 Main Street\, Veblen\, SD\, 57270\, United States
END:VEVENT
BEGIN:VEVENT
DTSTART;TZID=UTC:20200202T150000
DTEND;TZID=UTC:20200202T230000
DTSTAMP:20260423T171519
CREATED:20200128T145446Z
LAST-MODIFIED:20200128T145822Z
UID:1624-1580655600-1580684400@www.gladsd.com
SUMMARY:Club Eden Super Bowl Party
DESCRIPTION:
URL:https://www.gladsd.com/event/club-eden-super-bowl-party/
LOCATION:Club Eden\, 322 Broadway Avenue\, Eden\, SD\, 57232\, United States
END:VEVENT
BEGIN:VEVENT
DTSTART;TZID=UTC:20200202T150000
DTEND;TZID=UTC:20200202T230000
DTSTAMP:20260423T171519
CREATED:20200128T145157Z
LAST-MODIFIED:20200128T145157Z
UID:1619-1580655600-1580684400@www.gladsd.com
SUMMARY:The Front Porch Super Bowl Party
DESCRIPTION:The Front Porch \nHappy hour pricing all day.  We will be giving away 2-$50 gift cards at halftime\, and a $100 gift card after the game. Other prizes given though out the game. Must be present to win. Come watch the game and get some great munchies\, including Robby’s chili!!!
URL:https://www.gladsd.com/event/the-front-porch-super-bowl-party/
LOCATION:The Front Porch\, 416 Main Street\, Langfod\, SD\, 57454\, United States
END:VEVENT
BEGIN:VEVENT
DTSTART;TZID=UTC:20200202T150000
DTEND;TZID=UTC:20200202T230000
DTSTAMP:20260423T171519
CREATED:20200128T144643Z
LAST-MODIFIED:20200128T145226Z
UID:1612-1580655600-1580684400@www.gladsd.com
SUMMARY:Britton Country Club Super Bowl Party
DESCRIPTION:Britton Country Club \nSuper Bowl Party\nFeb 2nd 3pm\nTaco Bar\n$1 Drink Special\nBucket & Shot Specials\nAlso Get on our FB Board
URL:https://www.gladsd.com/event/super-bowl-party/
LOCATION:Britton Country Club
END:VEVENT
BEGIN:VEVENT
DTSTART;TZID=UTC:20191214T100000
DTEND;TZID=UTC:20191214T160000
DTSTAMP:20260423T171519
CREATED:20191106T162828Z
LAST-MODIFIED:20191106T162828Z
UID:1516-1576317600-1576339200@www.gladsd.com
SUMMARY:Frontier Christmas at Fort Sisseton
DESCRIPTION:Saturday\, December 14 | 10 a.m. – 4 p.m. \nCelebrate the season in classic frontier fashion with Christmas crafts\, homemade bread\, hands-on activities\, sleigh rides\, and caroling.\nThis year we are bringing roasted chestnuts to the Frontier! \nLunch will be served from 11am-2pm or until gone\nThis event is a fun time for the whole family \nPark Entrance Fee Required
URL:https://www.gladsd.com/event/frontier-christmas-at-fort-sisseton/
LOCATION:Fort Sisseton State Park\, Lake City\, SD\, United States
ORGANIZER;CN="Ali Jo Tonsfelt":MAILTO:fortsisseton@state.sd.us
END:VEVENT
BEGIN:VEVENT
DTSTART;TZID=UTC:20191208T140000
DTEND;TZID=UTC:20191208T140000
DTSTAMP:20260423T171519
CREATED:20191106T162455Z
LAST-MODIFIED:20191106T162455Z
UID:1513-1575813600-1575813600@www.gladsd.com
SUMMARY:Christmas Tea and Traditions
DESCRIPTION:Get into the mood for Christmas by joining us for a Christmas Tea as we talk about some of the Traditions of Christmas and where they come from. Tea and traditional Christmas food will be served. \nDate: December 8th\, 2019\nTime: 2pm in the Schoolhouse/Library \n***A South Dakota State park entrance license is required on all vehicles entering***
URL:https://www.gladsd.com/event/christmas-tea-and-traditions/
LOCATION:Fort Sisseton State Park\, Lake City\, SD\, United States
END:VEVENT
BEGIN:VEVENT
DTSTART;TZID=UTC:20191207T080000
DTEND;TZID=UTC:20191207T170000
DTSTAMP:20260423T171519
CREATED:20191106T163314Z
LAST-MODIFIED:20191106T163314Z
UID:1520-1575705600-1575738000@www.gladsd.com
SUMMARY:Christmas on Parade
DESCRIPTION:Saturday\, December 7th sponsored by Britton Area Chamber of Commerce. \nWatch Facebook page for updates!
URL:https://www.gladsd.com/event/christmas-on-parade/
END:VEVENT
BEGIN:VEVENT
DTSTART;TZID=UTC:20191127T080000
DTEND;TZID=UTC:20191127T170000
DTSTAMP:20260423T171519
CREATED:20191106T163854Z
LAST-MODIFIED:20191106T163854Z
UID:1527-1574841600-1574874000@www.gladsd.com
SUMMARY:Hump Day Sales!
DESCRIPTION:Every Wednesday in November shop Britton downtown businesses and take advantage of great sales. \nDizzy Blondz \nFlowers by Anita \nHH Design \nCups \nMeyer Hardware Hank \nCheck Facebook for updates on each week’s specials.
URL:https://www.gladsd.com/event/hump-day-sales-3/
END:VEVENT
END:VCALENDAR